BEGIN:VCALENDAR
VERSION:2.0
PRODID:-//Spelslot - ECPv6.15.18//NONSGML v1.0//EN
CALSCALE:GREGORIAN
METHOD:PUBLISH
X-ORIGINAL-URL:https://www.spelslot.nl
X-WR-CALDESC:Evenementen voor Spelslot
REFRESH-INTERVAL;VALUE=DURATION:PT1H
X-Robots-Tag:noindex
X-PUBLISHED-TTL:PT1H
BEGIN:VTIMEZONE
TZID:Europe/Amsterdam
BEGIN:DAYLIGHT
TZOFFSETFROM:+0100
TZOFFSETTO:+0200
TZNAME:CEST
DTSTART:20220327T010000
END:DAYLIGHT
BEGIN:STANDARD
TZOFFSETFROM:+0200
TZOFFSETTO:+0100
TZNAME:CET
DTSTART:20221030T010000
END:STANDARD
BEGIN:DAYLIGHT
TZOFFSETFROM:+0100
TZOFFSETTO:+0200
TZNAME:CEST
DTSTART:20230326T010000
END:DAYLIGHT
BEGIN:STANDARD
TZOFFSETFROM:+0200
TZOFFSETTO:+0100
TZNAME:CET
DTSTART:20231029T010000
END:STANDARD
BEGIN:DAYLIGHT
TZOFFSETFROM:+0100
TZOFFSETTO:+0200
TZNAME:CEST
DTSTART:20240331T010000
END:DAYLIGHT
BEGIN:STANDARD
TZOFFSETFROM:+0200
TZOFFSETTO:+0100
TZNAME:CET
DTSTART:20241027T010000
END:STANDARD
END:VTIMEZONE
BEGIN:VEVENT
DTSTART;TZID=Europe/Amsterdam:20230913T190000
DTEND;TZID=Europe/Amsterdam:20230913T223000
DTSTAMP:20260421T082417
CREATED:20230808T211635Z
LAST-MODIFIED:20230924T212409Z
UID:220-1694631600-1694644200@www.spelslot.nl
SUMMARY:spelslot D&D avond session 0 in het FNV gebouw
DESCRIPTION:it’s finally time for session 0 of our West Marches campaign.\nAs usual\, sign on for this session through the following link if you are new\, if you are a member log in and fill in the form below\nIf you’re not attending\, we ask you to sign off using the same link since it has some questions relevant for everyone in the campaign. \nAll information regarding the world we’re going to play and what’s happening there right now will be revealed at 19:00 during session 0. So please be on time!\nFor those not attending\, you’ll receive an email with the same information after the session if you signed off through the link.
URL:https://www.spelslot.nl/event/spelslot-dd-avond-session-0-in-het-fnv-gebouw/
CATEGORIES:D&D
END:VEVENT
END:VCALENDAR