BEGIN:VCALENDAR
VERSION:2.0
PRODID:-//Spelslot - ECPv6.15.18//NONSGML v1.0//EN
CALSCALE:GREGORIAN
METHOD:PUBLISH
X-WR-CALNAME:Spelslot
X-ORIGINAL-URL:https://www.spelslot.nl
X-WR-CALDESC:Evenementen voor Spelslot
REFRESH-INTERVAL;VALUE=DURATION:PT1H
X-Robots-Tag:noindex
X-PUBLISHED-TTL:PT1H
BEGIN:VTIMEZONE
TZID:Europe/Amsterdam
BEGIN:DAYLIGHT
TZOFFSETFROM:+0100
TZOFFSETTO:+0200
TZNAME:CEST
DTSTART:20230326T010000
END:DAYLIGHT
BEGIN:STANDARD
TZOFFSETFROM:+0200
TZOFFSETTO:+0100
TZNAME:CET
DTSTART:20231029T010000
END:STANDARD
BEGIN:DAYLIGHT
TZOFFSETFROM:+0100
TZOFFSETTO:+0200
TZNAME:CEST
DTSTART:20240331T010000
END:DAYLIGHT
BEGIN:STANDARD
TZOFFSETFROM:+0200
TZOFFSETTO:+0100
TZNAME:CET
DTSTART:20241027T010000
END:STANDARD
BEGIN:DAYLIGHT
TZOFFSETFROM:+0100
TZOFFSETTO:+0200
TZNAME:CEST
DTSTART:20250330T010000
END:DAYLIGHT
BEGIN:STANDARD
TZOFFSETFROM:+0200
TZOFFSETTO:+0100
TZNAME:CET
DTSTART:20251026T010000
END:STANDARD
END:VTIMEZONE
BEGIN:VEVENT
DTSTART;TZID=Europe/Amsterdam:20240707T110000
DTEND;TZID=Europe/Amsterdam:20240707T173000
DTSTAMP:20260418T130025
CREATED:20240605T172350Z
LAST-MODIFIED:20240605T172350Z
UID:1084-1720350000-1720373400@www.spelslot.nl
SUMMARY:Magisch verhalenfestival
DESCRIPTION:
URL:https://www.spelslot.nl/event/magisch-verhalenfestival/
LOCATION:kasteel middachten\, Smidsallee\, De steeg\, gelderland\, 6994 BJ\, Nederland
CATEGORIES:Externe evenementen
ORGANIZER;CN="tante pollewop events":MAILTO:info@tantepollewopevents.nl
END:VEVENT
END:VCALENDAR