BEGIN:VCALENDAR
VERSION:2.0
PRODID:-//Spelslot - ECPv6.15.18//NONSGML v1.0//EN
CALSCALE:GREGORIAN
METHOD:PUBLISH
X-WR-CALNAME:Spelslot
X-ORIGINAL-URL:https://www.spelslot.nl
X-WR-CALDESC:Evenementen voor Spelslot
REFRESH-INTERVAL;VALUE=DURATION:PT1H
X-Robots-Tag:noindex
X-PUBLISHED-TTL:PT1H
BEGIN:VTIMEZONE
TZID:Europe/Amsterdam
BEGIN:DAYLIGHT
TZOFFSETFROM:+0100
TZOFFSETTO:+0200
TZNAME:CEST
DTSTART:20230326T010000
END:DAYLIGHT
BEGIN:STANDARD
TZOFFSETFROM:+0200
TZOFFSETTO:+0100
TZNAME:CET
DTSTART:20231029T010000
END:STANDARD
BEGIN:DAYLIGHT
TZOFFSETFROM:+0100
TZOFFSETTO:+0200
TZNAME:CEST
DTSTART:20240331T010000
END:DAYLIGHT
BEGIN:STANDARD
TZOFFSETFROM:+0200
TZOFFSETTO:+0100
TZNAME:CET
DTSTART:20241027T010000
END:STANDARD
BEGIN:DAYLIGHT
TZOFFSETFROM:+0100
TZOFFSETTO:+0200
TZNAME:CEST
DTSTART:20250330T010000
END:DAYLIGHT
BEGIN:STANDARD
TZOFFSETFROM:+0200
TZOFFSETTO:+0100
TZNAME:CET
DTSTART:20251026T010000
END:STANDARD
BEGIN:DAYLIGHT
TZOFFSETFROM:+0100
TZOFFSETTO:+0200
TZNAME:CEST
DTSTART:20260329T010000
END:DAYLIGHT
BEGIN:STANDARD
TZOFFSETFROM:+0200
TZOFFSETTO:+0100
TZNAME:CET
DTSTART:20261025T010000
END:STANDARD
BEGIN:DAYLIGHT
TZOFFSETFROM:+0100
TZOFFSETTO:+0200
TZNAME:CEST
DTSTART:20270328T010000
END:DAYLIGHT
BEGIN:STANDARD
TZOFFSETFROM:+0200
TZOFFSETTO:+0100
TZNAME:CET
DTSTART:20271031T010000
END:STANDARD
END:VTIMEZONE
BEGIN:VEVENT
DTSTART;TZID=Europe/Amsterdam:20260411T110000
DTEND;TZID=Europe/Amsterdam:20260411T190000
DTSTAMP:20260425T181646
CREATED:20260304T120116Z
LAST-MODIFIED:20260304T120805Z
UID:1821-1775905200-1775934000@www.spelslot.nl
SUMMARY:RINCON
DESCRIPTION:
URL:https://www.spelslot.nl/event/rincon-3/
LOCATION:MFA ’t Hart Ewijk\, Den Elt 17\, Ewijk\, Gelderland\, 6644 EA\, Nederland
CATEGORIES:Externe evenementen
ORGANIZER;CN="RINCON":MAILTO:Contact@rollinitiativecon.nl
END:VEVENT
BEGIN:VEVENT
DTSTART;VALUE=DATE:20250621
DTEND;VALUE=DATE:20250623
DTSTAMP:20260425T181646
CREATED:20250516T081521Z
LAST-MODIFIED:20250516T081521Z
UID:1635-1750464000-1750636799@www.spelslot.nl
SUMMARY:Heroes Dutch Comic Con\, Jaarbeurs Utrecht
DESCRIPTION:samenwerking met Dobbelgangers \n﻿
URL:https://www.spelslot.nl/event/heroes-dutch-comic-con-jaarbeurs-utrecht/
LOCATION:Gelderland
CATEGORIES:evenementen,Externe evenementen
END:VEVENT
BEGIN:VEVENT
DTSTART;TZID=Europe/Amsterdam:20250406T110000
DTEND;TZID=Europe/Amsterdam:20250406T180000
DTSTAMP:20260425T181646
CREATED:20250316T135116Z
LAST-MODIFIED:20250316T135116Z
UID:1580-1743937200-1743962400@www.spelslot.nl
SUMMARY:RINCON
DESCRIPTION:
URL:https://www.spelslot.nl/event/rincon-2/
LOCATION:Gelderland
CATEGORIES:Externe evenementen
ORGANIZER;CN="RINCON":MAILTO:Contact@rollinitiativecon.nl
END:VEVENT
BEGIN:VEVENT
DTSTART;TZID=Europe/Amsterdam:20250405T110000
DTEND;TZID=Europe/Amsterdam:20250405T200000
DTSTAMP:20260425T181646
CREATED:20250316T135035Z
LAST-MODIFIED:20250316T135035Z
UID:1578-1743850800-1743883200@www.spelslot.nl
SUMMARY:RINCON
DESCRIPTION:
URL:https://www.spelslot.nl/event/rincon/
LOCATION:Gelderland
CATEGORIES:Externe evenementen
ORGANIZER;CN="RINCON":MAILTO:Contact@rollinitiativecon.nl
END:VEVENT
BEGIN:VEVENT
DTSTART;TZID=Europe/Amsterdam:20241026T110000
DTEND;TZID=Europe/Amsterdam:20241026T220000
DTSTAMP:20260425T181646
CREATED:20240605T175038Z
LAST-MODIFIED:20240605T175038Z
UID:1088-1729940400-1729980000@www.spelslot.nl
SUMMARY:RINCON Halloween
DESCRIPTION:
URL:https://www.spelslot.nl/event/rincon-halloween/
LOCATION:Gelderland
CATEGORIES:Externe evenementen
ORGANIZER;CN="RINCON":MAILTO:Contact@rollinitiativecon.nl
END:VEVENT
BEGIN:VEVENT
DTSTART;TZID=Europe/Amsterdam:20240707T110000
DTEND;TZID=Europe/Amsterdam:20240707T173000
DTSTAMP:20260425T181646
CREATED:20240605T172350Z
LAST-MODIFIED:20240605T172350Z
UID:1084-1720350000-1720373400@www.spelslot.nl
SUMMARY:Magisch verhalenfestival
DESCRIPTION:
URL:https://www.spelslot.nl/event/magisch-verhalenfestival/
LOCATION:kasteel middachten\, Smidsallee\, De steeg\, gelderland\, 6994 BJ\, Nederland
CATEGORIES:Externe evenementen
ORGANIZER;CN="tante pollewop events":MAILTO:info@tantepollewopevents.nl
END:VEVENT
END:VCALENDAR