BEGIN:VCALENDAR
VERSION:2.0
PRODID:-//Spelslot - ECPv6.15.18//NONSGML v1.0//EN
CALSCALE:GREGORIAN
METHOD:PUBLISH
X-WR-CALNAME:Spelslot
X-ORIGINAL-URL:https://www.spelslot.nl
X-WR-CALDESC:Evenementen voor Spelslot
REFRESH-INTERVAL;VALUE=DURATION:PT1H
X-Robots-Tag:noindex
X-PUBLISHED-TTL:PT1H
BEGIN:VTIMEZONE
TZID:Europe/Amsterdam
BEGIN:DAYLIGHT
TZOFFSETFROM:+0100
TZOFFSETTO:+0200
TZNAME:CEST
DTSTART:20230326T010000
END:DAYLIGHT
BEGIN:STANDARD
TZOFFSETFROM:+0200
TZOFFSETTO:+0100
TZNAME:CET
DTSTART:20231029T010000
END:STANDARD
BEGIN:DAYLIGHT
TZOFFSETFROM:+0100
TZOFFSETTO:+0200
TZNAME:CEST
DTSTART:20240331T010000
END:DAYLIGHT
BEGIN:STANDARD
TZOFFSETFROM:+0200
TZOFFSETTO:+0100
TZNAME:CET
DTSTART:20241027T010000
END:STANDARD
BEGIN:DAYLIGHT
TZOFFSETFROM:+0100
TZOFFSETTO:+0200
TZNAME:CEST
DTSTART:20250330T010000
END:DAYLIGHT
BEGIN:STANDARD
TZOFFSETFROM:+0200
TZOFFSETTO:+0100
TZNAME:CET
DTSTART:20251026T010000
END:STANDARD
END:VTIMEZONE
BEGIN:VEVENT
DTSTART;TZID=Europe/Amsterdam:20240904T190000
DTEND;TZID=Europe/Amsterdam:20240904T223000
DTSTAMP:20260419T215526
CREATED:20240830T144552Z
LAST-MODIFIED:20240910T194427Z
UID:1152-1725476400-1725489000@www.spelslot.nl
SUMMARY:Boardgame night
DESCRIPTION:De deuren openen om 18:30 \nMocht je interesse hebben\, neem dan contact op met ons via ons contactformulier.
URL:https://www.spelslot.nl/event/spelslot-boardgame-avond-3/
CATEGORIES:Boardgames
END:VEVENT
BEGIN:VEVENT
DTSTART;TZID=Europe/Amsterdam:20240901T130000
DTEND;TZID=Europe/Amsterdam:20240901T170000
DTSTAMP:20260419T215526
CREATED:20240605T175520Z
LAST-MODIFIED:20240605T175520Z
UID:1091-1725195600-1725210000@www.spelslot.nl
SUMMARY:Spelmiddag Dungeons and Dragons Bibliotheek Mariënburg
DESCRIPTION:Elke eerste zondag van de maand van 13.00 tot 17.00 uur nemen de spelleiders van Spelslot jou mee op een Dungeons & Dragons-avontuur vol spanning en fantasie in de bieb! Deze avonturen beleef jij samen met andere helden in Bibliotheek Mariënburg. \nDungeons & Dragons (D&D) is een rollenspel waarbij je als speler een bepaalde rol speelt in een verhaal. De D&D-spelmiddagen zijn voor jongeren tussen de 12 en 18 jaar oud. Ouders en/of verzorgers mogen natuurlijk meekijken. Je hoeft geen ervaring met Dungeons & Dragons (D&D) of Role-Playing Games (RPG) te hebben. De spelleiders zorgen ervoor dat iedereen kan meespelen. \nDeelname is gratis. Het enige wat je hoeft te doen\, is je aan te melden. \nOver D&D\nD&D is een RPG (Role-Playing Game) waarin spelers in de huid kruipen van fantasyhelden. Een elven boogschutter\, een drakenstrijder\, ’n geniepige dief of de druïde die in gevaarlijke (en onschuldige) dieren kan veranderen. Het verschil tussen een RPG en een videogame is dat spelers de volledige vrijheid hebben om te doen en laten wat ze willen in de wereld. Uiteraard binnen de grenzen van de wereld en die van de spelleider. De dobbelstenen\, vooral de befaamde d20 (twintigzijdige dobbelsteen)\, bepalen of acties lukken\, hoeveel schade een spreuk of aanval doet. \nOver Spelslot\nSpelslot is een nationale samenwerking tussen Dungeons and Dragons-spelers en creatievelingen om deze hobby aan een groter publiek te introduceren. Spelslot wil D&D als middel gebruiken om verschillende generaties met elkaar te verbinden en de kracht en magie van verhalen te laten ervaren. Spelslot doet dit door middel van D&D en board game nights\, gehost door Dungeon Masters.
URL:https://www.spelslot.nl/event/spelmiddag-dungeons-and-dragons-bibliotheek-marienburg-7/
LOCATION:Mariënburg 29 6511PS Nijmegen\, Mariënburg 29\, Nijmegen\, Gelderland\, 6511PS
CATEGORIES:D&D bieb
ATTACH;FMTTYPE=image/png:https://www.spelslot.nl/wp-content/uploads/2023/08/64b69d8a55e90.png
END:VEVENT
BEGIN:VEVENT
DTSTART;TZID=Europe/Amsterdam:20240828T190000
DTEND;TZID=Europe/Amsterdam:20240828T223000
DTSTAMP:20260419T215526
CREATED:20240605T204020Z
LAST-MODIFIED:20240605T204020Z
UID:1116-1724871600-1724884200@www.spelslot.nl
SUMMARY:spelslot D&D avond in het FNV gebouw
DESCRIPTION:de deuren openen om 18:30 \nmocht er iemand interesse hebben\nneem dan contact op met ons via ons contactformulier
URL:https://www.spelslot.nl/event/spelslot-dd-avond-in-het-fnv-gebouw-39/
CATEGORIES:D&D
END:VEVENT
BEGIN:VEVENT
DTSTART;TZID=Europe/Amsterdam:20240821T190000
DTEND;TZID=Europe/Amsterdam:20240821T223000
DTSTAMP:20260419T215526
CREATED:20240605T203955Z
LAST-MODIFIED:20240605T203955Z
UID:1114-1724266800-1724279400@www.spelslot.nl
SUMMARY:spelslot D&D avond in het FNV gebouw
DESCRIPTION:de deuren openen om 18:30 \nmocht er iemand interesse hebben\nneem dan contact op met ons via ons contactformulier
URL:https://www.spelslot.nl/event/spelslot-dd-avond-in-het-fnv-gebouw-38/
CATEGORIES:D&D
END:VEVENT
BEGIN:VEVENT
DTSTART;TZID=Europe/Amsterdam:20240814T190000
DTEND;TZID=Europe/Amsterdam:20240814T223000
DTSTAMP:20260419T215526
CREATED:20240605T203939Z
LAST-MODIFIED:20240605T203939Z
UID:1112-1723662000-1723674600@www.spelslot.nl
SUMMARY:spelslot D&D avond in het FNV gebouw
DESCRIPTION:de deuren openen om 18:30 \nmocht er iemand interesse hebben\nneem dan contact op met ons via ons contactformulier
URL:https://www.spelslot.nl/event/spelslot-dd-avond-in-het-fnv-gebouw-37/
CATEGORIES:D&D
END:VEVENT
BEGIN:VEVENT
DTSTART;TZID=Europe/Amsterdam:20240807T190000
DTEND;TZID=Europe/Amsterdam:20240807T223000
DTSTAMP:20260419T215526
CREATED:20240605T202932Z
LAST-MODIFIED:20240605T202932Z
UID:1108-1723057200-1723069800@www.spelslot.nl
SUMMARY:spelslot Boardgame avond
DESCRIPTION:de deuren openen om 18:30 \nmocht er iemand interesse hebben\nneem dan contact op met ons via ons contactformulier
URL:https://www.spelslot.nl/event/spelslot-boardgame-avond-2/
CATEGORIES:Boardgames
END:VEVENT
BEGIN:VEVENT
DTSTART;TZID=Europe/Amsterdam:20240731T190000
DTEND;TZID=Europe/Amsterdam:20240731T223000
DTSTAMP:20260419T215526
CREATED:20240605T202812Z
LAST-MODIFIED:20240605T202812Z
UID:1104-1722452400-1722465000@www.spelslot.nl
SUMMARY:spelslot D&D avond in het FNV gebouw
DESCRIPTION:de deuren openen om 18:30 \nmocht er iemand interesse hebben\nneem dan contact op met ons via ons contactformulier
URL:https://www.spelslot.nl/event/spelslot-dd-avond-in-het-fnv-gebouw-36/
CATEGORIES:D&D
END:VEVENT
BEGIN:VEVENT
DTSTART;TZID=Europe/Amsterdam:20240724T190000
DTEND;TZID=Europe/Amsterdam:20240724T223000
DTSTAMP:20260419T215526
CREATED:20240605T202756Z
LAST-MODIFIED:20240605T202756Z
UID:1102-1721847600-1721860200@www.spelslot.nl
SUMMARY:spelslot D&D avond in het FNV gebouw
DESCRIPTION:de deuren openen om 18:30 \nmocht er iemand interesse hebben\nneem dan contact op met ons via ons contactformulier
URL:https://www.spelslot.nl/event/spelslot-dd-avond-in-het-fnv-gebouw-35/
CATEGORIES:D&D
END:VEVENT
BEGIN:VEVENT
DTSTART;TZID=Europe/Amsterdam:20240717T190000
DTEND;TZID=Europe/Amsterdam:20240717T223000
DTSTAMP:20260419T215526
CREATED:20240605T202734Z
LAST-MODIFIED:20240605T202734Z
UID:1100-1721242800-1721255400@www.spelslot.nl
SUMMARY:spelslot D&D avond in het FNV gebouw
DESCRIPTION:de deuren openen om 18:30 \nmocht er iemand interesse hebben\nneem dan contact op met ons via ons contactformulier
URL:https://www.spelslot.nl/event/spelslot-dd-avond-in-het-fnv-gebouw-34/
CATEGORIES:D&D
END:VEVENT
BEGIN:VEVENT
DTSTART;TZID=Europe/Amsterdam:20240710T190000
DTEND;TZID=Europe/Amsterdam:20240710T223000
DTSTAMP:20260419T215526
CREATED:20240605T202657Z
LAST-MODIFIED:20240605T202657Z
UID:1098-1720638000-1720650600@www.spelslot.nl
SUMMARY:spelslot D&D avond in het FNV gebouw
DESCRIPTION:de deuren openen om 18:30 \nmocht er iemand interesse hebben\nneem dan contact op met ons via ons contactformulier
URL:https://www.spelslot.nl/event/spelslot-dd-avond-in-het-fnv-gebouw-33/
CATEGORIES:D&D
END:VEVENT
BEGIN:VEVENT
DTSTART;TZID=Europe/Amsterdam:20240707T110000
DTEND;TZID=Europe/Amsterdam:20240707T173000
DTSTAMP:20260419T215526
CREATED:20240605T172350Z
LAST-MODIFIED:20240605T172350Z
UID:1084-1720350000-1720373400@www.spelslot.nl
SUMMARY:Magisch verhalenfestival
DESCRIPTION:
URL:https://www.spelslot.nl/event/magisch-verhalenfestival/
LOCATION:kasteel middachten\, Smidsallee\, De steeg\, gelderland\, 6994 BJ\, Nederland
CATEGORIES:Externe evenementen
ORGANIZER;CN="tante pollewop events":MAILTO:info@tantepollewopevents.nl
END:VEVENT
BEGIN:VEVENT
DTSTART;TZID=Europe/Amsterdam:20240703T190000
DTEND;TZID=Europe/Amsterdam:20240703T223000
DTSTAMP:20260419T215526
CREATED:20240605T202911Z
LAST-MODIFIED:20240605T202911Z
UID:1106-1720033200-1720045800@www.spelslot.nl
SUMMARY:spelslot Boardgame avond
DESCRIPTION:de deuren openen om 18:30 \nmocht er iemand interesse hebben\nneem dan contact op met ons via ons contactformulier
URL:https://www.spelslot.nl/event/spelslot-boardgame-avond/
CATEGORIES:Boardgames
END:VEVENT
BEGIN:VEVENT
DTSTART;TZID=Europe/Amsterdam:20240626T190000
DTEND;TZID=Europe/Amsterdam:20240626T223000
DTSTAMP:20260419T215526
CREATED:20240207T201959Z
LAST-MODIFIED:20240605T202615Z
UID:1003-1719428400-1719441000@www.spelslot.nl
SUMMARY:spelslot D&D avond in het FNV gebouw
DESCRIPTION:de deuren openen om 18:30 \nmocht er iemand interesse hebben\nneem dan contact op met ons via ons contactformulier
URL:https://www.spelslot.nl/event/spelslot-dd-avond-in-het-fnv-gebouw-32/
CATEGORIES:Campaign,D&D
END:VEVENT
BEGIN:VEVENT
DTSTART;TZID=Europe/Amsterdam:20240619T190000
DTEND;TZID=Europe/Amsterdam:20240619T223000
DTSTAMP:20260419T215526
CREATED:20240207T201950Z
LAST-MODIFIED:20240605T202606Z
UID:1004-1718823600-1718836200@www.spelslot.nl
SUMMARY:spelslot D&D avond in het FNV gebouw
DESCRIPTION:de deuren openen om 18:30 \nmocht er iemand interesse hebben\nneem dan contact op met ons via ons contactformulier
URL:https://www.spelslot.nl/event/spelslot-dd-avond-in-het-fnv-gebouw-31/
CATEGORIES:Campaign,D&D
END:VEVENT
BEGIN:VEVENT
DTSTART;TZID=Europe/Amsterdam:20240612T190000
DTEND;TZID=Europe/Amsterdam:20240612T223000
DTSTAMP:20260419T215526
CREATED:20240207T201945Z
LAST-MODIFIED:20240605T202524Z
UID:1005-1718218800-1718231400@www.spelslot.nl
SUMMARY:spelslot D&D avond in het FNV gebouw
DESCRIPTION:de deuren openen om 18:30 \nmocht er iemand interesse hebben\nneem dan contact op met ons via ons contactformulier
URL:https://www.spelslot.nl/event/spelslot-dd-avond-in-het-fnv-gebouw-30/
CATEGORIES:Campaign,D&D
END:VEVENT
BEGIN:VEVENT
DTSTART;TZID=Europe/Amsterdam:20240605T190000
DTEND;TZID=Europe/Amsterdam:20240605T223000
DTSTAMP:20260419T215526
CREATED:20240207T201938Z
LAST-MODIFIED:20240207T202034Z
UID:1002-1717614000-1717626600@www.spelslot.nl
SUMMARY:spelslot Boardgame avond en leveling up d&d character in het FNV gebouw
DESCRIPTION:de deuren openen om 18:30 \nmocht er iemand interesse hebben\nneem dan contact op met ons via ons contactformulier
URL:https://www.spelslot.nl/event/spelslot-boardgame-avond-en-leveling-up-dd-character-in-het-fnv-gebouw-4/
CATEGORIES:Boardgames
END:VEVENT
BEGIN:VEVENT
DTSTART;TZID=Europe/Amsterdam:20240529T190000
DTEND;TZID=Europe/Amsterdam:20240529T223000
DTSTAMP:20260419T215526
CREATED:20240207T201747Z
LAST-MODIFIED:20240207T201747Z
UID:997-1717009200-1717021800@www.spelslot.nl
SUMMARY:spelslot D&D avond in het FNV gebouw
DESCRIPTION:de deuren openen om 18:30 \nmocht er iemand interesse hebben\nneem dan contact op met ons via ons contactformulier
URL:https://www.spelslot.nl/event/spelslot-dd-avond-in-het-fnv-gebouw-28/
CATEGORIES:D&D
END:VEVENT
BEGIN:VEVENT
DTSTART;TZID=Europe/Amsterdam:20240522T190000
DTEND;TZID=Europe/Amsterdam:20240522T223000
DTSTAMP:20260419T215526
CREATED:20240207T201748Z
LAST-MODIFIED:20240207T201748Z
UID:996-1716404400-1716417000@www.spelslot.nl
SUMMARY:spelslot D&D avond in het FNV gebouw
DESCRIPTION:de deuren openen om 18:30 \nmocht er iemand interesse hebben\nneem dan contact op met ons via ons contactformulier
URL:https://www.spelslot.nl/event/spelslot-dd-avond-in-het-fnv-gebouw-29/
CATEGORIES:D&D
END:VEVENT
BEGIN:VEVENT
DTSTART;TZID=Europe/Amsterdam:20240515T190000
DTEND;TZID=Europe/Amsterdam:20240515T223000
DTSTAMP:20260419T215526
CREATED:20240207T201717Z
LAST-MODIFIED:20240207T201752Z
UID:995-1715799600-1715812200@www.spelslot.nl
SUMMARY:spelslot D&D avond in het FNV gebouw
DESCRIPTION:de deuren openen om 18:30 \nmocht er iemand interesse hebben\nneem dan contact op met ons via ons contactformulier
URL:https://www.spelslot.nl/event/spelslot-dd-avond-in-het-fnv-gebouw-27/
CATEGORIES:D&D
END:VEVENT
BEGIN:VEVENT
DTSTART;TZID=Europe/Amsterdam:20240508T190000
DTEND;TZID=Europe/Amsterdam:20240508T223000
DTSTAMP:20260419T215526
CREATED:20240207T201701Z
LAST-MODIFIED:20240207T201754Z
UID:994-1715194800-1715207400@www.spelslot.nl
SUMMARY:spelslot D&D avond in het FNV gebouw
DESCRIPTION:de deuren openen om 18:30 \nmocht er iemand interesse hebben\nneem dan contact op met ons via ons contactformulier
URL:https://www.spelslot.nl/event/spelslot-dd-avond-in-het-fnv-gebouw-26/
CATEGORIES:D&D
END:VEVENT
BEGIN:VEVENT
DTSTART;TZID=Europe/Amsterdam:20240505T130000
DTEND;TZID=Europe/Amsterdam:20240505T170000
DTSTAMP:20260419T215526
CREATED:20230906T183650Z
LAST-MODIFIED:20230906T183650Z
UID:589-1714914000-1714928400@www.spelslot.nl
SUMMARY:Spelmiddag Dungeons and Dragons Bibliotheek Mariënburg
DESCRIPTION:Elke eerste zondag van de maand van 13.00 tot 17.00 uur nemen de spelleiders van Spelslot jou mee op een Dungeons & Dragons-avontuur vol spanning en fantasie in de bieb! Deze avonturen beleef jij samen met andere helden in Bibliotheek Mariënburg. \nDungeons & Dragons (D&D) is een rollenspel waarbij je als speler een bepaalde rol speelt in een verhaal. De D&D-spelmiddagen zijn voor jongeren tussen de 12 en 18 jaar oud. Ouders en/of verzorgers mogen natuurlijk meekijken. Je hoeft geen ervaring met Dungeons & Dragons (D&D) of Role-Playing Games (RPG) te hebben. De spelleiders zorgen ervoor dat iedereen kan meespelen. \nDeelname is gratis. Het enige wat je hoeft te doen\, is je aan te melden. \nOver D&D\nD&D is een RPG (Role-Playing Game) waarin spelers in de huid kruipen van fantasyhelden. Een elven boogschutter\, een drakenstrijder\, ’n geniepige dief of de druïde die in gevaarlijke (en onschuldige) dieren kan veranderen. Het verschil tussen een RPG en een videogame is dat spelers de volledige vrijheid hebben om te doen en laten wat ze willen in de wereld. Uiteraard binnen de grenzen van de wereld en die van de spelleider. De dobbelstenen\, vooral de befaamde d20 (twintigzijdige dobbelsteen)\, bepalen of acties lukken\, hoeveel schade een spreuk of aanval doet. \nOver Spelslot\nSpelslot is een nationale samenwerking tussen Dungeons and Dragons-spelers en creatievelingen om deze hobby aan een groter publiek te introduceren. Spelslot wil D&D als middel gebruiken om verschillende generaties met elkaar te verbinden en de kracht en magie van verhalen te laten ervaren. Spelslot doet dit door middel van D&D en board game nights\, gehost door Dungeon Masters.
URL:https://www.spelslot.nl/event/spelmiddag-dungeons-and-dragons-bibliotheek-marienburg-9/
LOCATION:Mariënburg 29 6511PS Nijmegen\, Mariënburg 29\, Nijmegen\, Gelderland\, 6511PS
CATEGORIES:D&D bieb
ATTACH;FMTTYPE=image/png:https://www.spelslot.nl/wp-content/uploads/2023/08/64b69d8a55e90.png
END:VEVENT
BEGIN:VEVENT
DTSTART;TZID=Europe/Amsterdam:20240501T190000
DTEND;TZID=Europe/Amsterdam:20240501T223000
DTSTAMP:20260419T215526
CREATED:20240207T201357Z
LAST-MODIFIED:20240207T201357Z
UID:992-1714590000-1714602600@www.spelslot.nl
SUMMARY:spelslot Boardgame avond en leveling up d&d character in het FNV gebouw
DESCRIPTION:de deuren openen om 18:30 \nmocht er iemand interesse hebben\nneem dan contact op met ons via ons contactformulier
URL:https://www.spelslot.nl/event/spelslot-boardgame-avond-en-leveling-up-dd-character-in-het-fnv-gebouw-3/
CATEGORIES:Boardgames
END:VEVENT
BEGIN:VEVENT
DTSTART;TZID=Europe/Amsterdam:20240424T190000
DTEND;TZID=Europe/Amsterdam:20240424T223000
DTSTAMP:20260419T215526
CREATED:20240207T200644Z
LAST-MODIFIED:20240207T200644Z
UID:989-1713985200-1713997800@www.spelslot.nl
SUMMARY:spelslot D&D avond in het FNV gebouw
DESCRIPTION:de deuren openen om 18:30 \nmocht er iemand interesse hebben\nneem dan contact op met ons via ons contactformulier
URL:https://www.spelslot.nl/event/spelslot-dd-avond-in-het-fnv-gebouw-25/
CATEGORIES:D&D
END:VEVENT
BEGIN:VEVENT
DTSTART;TZID=Europe/Amsterdam:20240417T190000
DTEND;TZID=Europe/Amsterdam:20240417T223000
DTSTAMP:20260419T215526
CREATED:20240207T200629Z
LAST-MODIFIED:20240207T200629Z
UID:988-1713380400-1713393000@www.spelslot.nl
SUMMARY:spelslot D&D avond in het FNV gebouw
DESCRIPTION:de deuren openen om 18:30 \nmocht er iemand interesse hebben\nneem dan contact op met ons via ons contactformulier
URL:https://www.spelslot.nl/event/spelslot-dd-avond-in-het-fnv-gebouw-24/
CATEGORIES:D&D
END:VEVENT
BEGIN:VEVENT
DTSTART;TZID=Europe/Amsterdam:20240410T190000
DTEND;TZID=Europe/Amsterdam:20240410T223000
DTSTAMP:20260419T215526
CREATED:20240207T194726Z
LAST-MODIFIED:20240207T195625Z
UID:979-1712775600-1712788200@www.spelslot.nl
SUMMARY:spelslot D&D avond in het FNV gebouw
DESCRIPTION:de deuren openen om 18:30 \nmocht er iemand interesse hebben\nneem dan contact op met ons via ons contactformulier
URL:https://www.spelslot.nl/event/spelslot-dd-avond-in-het-fnv-gebouw/
CATEGORIES:D&D
END:VEVENT
BEGIN:VEVENT
DTSTART;TZID=Europe/Amsterdam:20240407T100000
DTEND;TZID=Europe/Amsterdam:20240407T180000
DTSTAMP:20260419T215526
CREATED:20240306T200512Z
LAST-MODIFIED:20240306T200512Z
UID:1021-1712484000-1712512800@www.spelslot.nl
SUMMARY:Roll Initiative Con
DESCRIPTION:
URL:https://www.spelslot.nl/event/roll-initiative-con-2/
LOCATION:MFA ’t Hart Ewijk\, Den Elt 17\, Ewijk\, Gelderland\, 6644 EA\, Nederland
END:VEVENT
BEGIN:VEVENT
DTSTART;TZID=Europe/Amsterdam:20240406T100000
DTEND;TZID=Europe/Amsterdam:20240406T180000
DTSTAMP:20260419T215526
CREATED:20240306T200430Z
LAST-MODIFIED:20240306T200859Z
UID:1018-1712397600-1712426400@www.spelslot.nl
SUMMARY:Roll Initiative Con
DESCRIPTION:
URL:https://www.spelslot.nl/event/roll-initiative-con/
LOCATION:MFA ’t Hart Ewijk\, Den Elt 17\, Ewijk\, Gelderland\, 6644 EA\, Nederland
END:VEVENT
BEGIN:VEVENT
DTSTART;TZID=Europe/Amsterdam:20240403T190000
DTEND;TZID=Europe/Amsterdam:20240403T223000
DTSTAMP:20260419T215526
CREATED:20240207T195652Z
LAST-MODIFIED:20240207T195652Z
UID:986-1712170800-1712183400@www.spelslot.nl
SUMMARY:spelslot Boardgame avond en leveling up d&d character in het FNV gebouw
DESCRIPTION:de deuren openen om 18:30 \nmocht er iemand interesse hebben\nneem dan contact op met ons via ons contactformulier
URL:https://www.spelslot.nl/event/spelslot-boardgame-avond-en-leveling-up-dd-character-in-het-fnv-gebouw-2/
CATEGORIES:Boardgames
END:VEVENT
BEGIN:VEVENT
DTSTART;TZID=Europe/Amsterdam:20240327T190000
DTEND;TZID=Europe/Amsterdam:20240327T223000
DTSTAMP:20260419T215526
CREATED:20240207T195411Z
LAST-MODIFIED:20240207T195525Z
UID:976-1711566000-1711578600@www.spelslot.nl
SUMMARY:spelslot D&D avond in het FNV gebouw
DESCRIPTION:de deuren openen om 18:30 \nmocht er iemand interesse hebben\nneem dan contact op met ons via ons contactformulier
URL:https://www.spelslot.nl/event/spelslot-dd-avond-in-het-fnv-gebouw-23/
CATEGORIES:D&D
END:VEVENT
BEGIN:VEVENT
DTSTART;TZID=Europe/Amsterdam:20240324T130000
DTEND;TZID=Europe/Amsterdam:20240324T170000
DTSTAMP:20260419T215526
CREATED:20240306T200056Z
LAST-MODIFIED:20240306T200056Z
UID:1016-1711285200-1711299600@www.spelslot.nl
SUMMARY:Spelmiddag Dungeons and Dragons Bibliotheek Mariënburg
DESCRIPTION:Elke eerste zondag van de maand van 13.00 tot 17.00 uur nemen de spelleiders van Spelslot jou mee op een Dungeons & Dragons-avontuur vol spanning en fantasie in de bieb! Deze avonturen beleef jij samen met andere helden in Bibliotheek Mariënburg. \nDungeons & Dragons (D&D) is een rollenspel waarbij je als speler een bepaalde rol speelt in een verhaal. De D&D-spelmiddagen zijn voor jongeren tussen de 12 en 18 jaar oud. Ouders en/of verzorgers mogen natuurlijk meekijken. Je hoeft geen ervaring met Dungeons & Dragons (D&D) of Role-Playing Games (RPG) te hebben. De spelleiders zorgen ervoor dat iedereen kan meespelen. \nDeelname is gratis. Het enige wat je hoeft te doen\, is je aan te melden. \nOver D&D\nD&D is een RPG (Role-Playing Game) waarin spelers in de huid kruipen van fantasyhelden. Een elven boogschutter\, een drakenstrijder\, ’n geniepige dief of de druïde die in gevaarlijke (en onschuldige) dieren kan veranderen. Het verschil tussen een RPG en een videogame is dat spelers de volledige vrijheid hebben om te doen en laten wat ze willen in de wereld. Uiteraard binnen de grenzen van de wereld en die van de spelleider. De dobbelstenen\, vooral de befaamde d20 (twintigzijdige dobbelsteen)\, bepalen of acties lukken\, hoeveel schade een spreuk of aanval doet. \nOver Spelslot\nSpelslot is een nationale samenwerking tussen Dungeons and Dragons-spelers en creatievelingen om deze hobby aan een groter publiek te introduceren. Spelslot wil D&D als middel gebruiken om verschillende generaties met elkaar te verbinden en de kracht en magie van verhalen te laten ervaren. Spelslot doet dit door middel van D&D en board game nights\, gehost door Dungeon Masters.
URL:https://www.spelslot.nl/event/spelmiddag-dungeons-and-dragons-bibliotheek-marienburg-2/
LOCATION:Mariënburg 29 6511PS Nijmegen\, Mariënburg 29\, Nijmegen\, Gelderland\, 6511PS
CATEGORIES:D&D bieb
ATTACH;FMTTYPE=image/png:https://www.spelslot.nl/wp-content/uploads/2023/08/64b69d8a55e90.png
END:VEVENT
END:VCALENDAR