BEGIN:VCALENDAR
VERSION:2.0
PRODID:-//Spelslot - ECPv6.15.18//NONSGML v1.0//EN
CALSCALE:GREGORIAN
METHOD:PUBLISH
X-WR-CALNAME:Spelslot
X-ORIGINAL-URL:https://www.spelslot.nl
X-WR-CALDESC:Evenementen voor Spelslot
REFRESH-INTERVAL;VALUE=DURATION:PT1H
X-Robots-Tag:noindex
X-PUBLISHED-TTL:PT1H
BEGIN:VTIMEZONE
TZID:Europe/Amsterdam
BEGIN:DAYLIGHT
TZOFFSETFROM:+0100
TZOFFSETTO:+0200
TZNAME:CEST
DTSTART:20220327T010000
END:DAYLIGHT
BEGIN:STANDARD
TZOFFSETFROM:+0200
TZOFFSETTO:+0100
TZNAME:CET
DTSTART:20221030T010000
END:STANDARD
BEGIN:DAYLIGHT
TZOFFSETFROM:+0100
TZOFFSETTO:+0200
TZNAME:CEST
DTSTART:20230326T010000
END:DAYLIGHT
BEGIN:STANDARD
TZOFFSETFROM:+0200
TZOFFSETTO:+0100
TZNAME:CET
DTSTART:20231029T010000
END:STANDARD
BEGIN:DAYLIGHT
TZOFFSETFROM:+0100
TZOFFSETTO:+0200
TZNAME:CEST
DTSTART:20240331T010000
END:DAYLIGHT
BEGIN:STANDARD
TZOFFSETFROM:+0200
TZOFFSETTO:+0100
TZNAME:CET
DTSTART:20241027T010000
END:STANDARD
BEGIN:DAYLIGHT
TZOFFSETFROM:+0100
TZOFFSETTO:+0200
TZNAME:CEST
DTSTART:20250330T010000
END:DAYLIGHT
BEGIN:STANDARD
TZOFFSETFROM:+0200
TZOFFSETTO:+0100
TZNAME:CET
DTSTART:20251026T010000
END:STANDARD
END:VTIMEZONE
BEGIN:VEVENT
DTSTART;TZID=Europe/Amsterdam:20240407T100000
DTEND;TZID=Europe/Amsterdam:20240407T180000
DTSTAMP:20260420T024753
CREATED:20240306T200512Z
LAST-MODIFIED:20240306T200512Z
UID:1021-1712484000-1712512800@www.spelslot.nl
SUMMARY:Roll Initiative Con
DESCRIPTION:
URL:https://www.spelslot.nl/event/roll-initiative-con-2/
LOCATION:MFA ’t Hart Ewijk\, Den Elt 17\, Ewijk\, Gelderland\, 6644 EA\, Nederland
END:VEVENT
BEGIN:VEVENT
DTSTART;TZID=Europe/Amsterdam:20240406T100000
DTEND;TZID=Europe/Amsterdam:20240406T180000
DTSTAMP:20260420T024753
CREATED:20240306T200430Z
LAST-MODIFIED:20240306T200859Z
UID:1018-1712397600-1712426400@www.spelslot.nl
SUMMARY:Roll Initiative Con
DESCRIPTION:
URL:https://www.spelslot.nl/event/roll-initiative-con/
LOCATION:MFA ’t Hart Ewijk\, Den Elt 17\, Ewijk\, Gelderland\, 6644 EA\, Nederland
END:VEVENT
BEGIN:VEVENT
DTSTART;TZID=Europe/Amsterdam:20240403T190000
DTEND;TZID=Europe/Amsterdam:20240403T223000
DTSTAMP:20260420T024753
CREATED:20240207T195652Z
LAST-MODIFIED:20240207T195652Z
UID:986-1712170800-1712183400@www.spelslot.nl
SUMMARY:spelslot Boardgame avond en leveling up d&d character in het FNV gebouw
DESCRIPTION:de deuren openen om 18:30 \nmocht er iemand interesse hebben\nneem dan contact op met ons via ons contactformulier
URL:https://www.spelslot.nl/event/spelslot-boardgame-avond-en-leveling-up-dd-character-in-het-fnv-gebouw-2/
LOCATION:Gelderland
CATEGORIES:Boardgames
END:VEVENT
BEGIN:VEVENT
DTSTART;TZID=Europe/Amsterdam:20240327T190000
DTEND;TZID=Europe/Amsterdam:20240327T223000
DTSTAMP:20260420T024753
CREATED:20240207T195411Z
LAST-MODIFIED:20240207T195525Z
UID:976-1711566000-1711578600@www.spelslot.nl
SUMMARY:spelslot D&D avond in het FNV gebouw
DESCRIPTION:de deuren openen om 18:30 \nmocht er iemand interesse hebben\nneem dan contact op met ons via ons contactformulier
URL:https://www.spelslot.nl/event/spelslot-dd-avond-in-het-fnv-gebouw-23/
LOCATION:Gelderland
CATEGORIES:D&D
END:VEVENT
BEGIN:VEVENT
DTSTART;TZID=Europe/Amsterdam:20240324T130000
DTEND;TZID=Europe/Amsterdam:20240324T170000
DTSTAMP:20260420T024753
CREATED:20240306T200056Z
LAST-MODIFIED:20240306T200056Z
UID:1016-1711285200-1711299600@www.spelslot.nl
SUMMARY:Spelmiddag Dungeons and Dragons Bibliotheek Mariënburg
DESCRIPTION:Elke eerste zondag van de maand van 13.00 tot 17.00 uur nemen de spelleiders van Spelslot jou mee op een Dungeons & Dragons-avontuur vol spanning en fantasie in de bieb! Deze avonturen beleef jij samen met andere helden in Bibliotheek Mariënburg. \nDungeons & Dragons (D&D) is een rollenspel waarbij je als speler een bepaalde rol speelt in een verhaal. De D&D-spelmiddagen zijn voor jongeren tussen de 12 en 18 jaar oud. Ouders en/of verzorgers mogen natuurlijk meekijken. Je hoeft geen ervaring met Dungeons & Dragons (D&D) of Role-Playing Games (RPG) te hebben. De spelleiders zorgen ervoor dat iedereen kan meespelen. \nDeelname is gratis. Het enige wat je hoeft te doen\, is je aan te melden. \nOver D&D\nD&D is een RPG (Role-Playing Game) waarin spelers in de huid kruipen van fantasyhelden. Een elven boogschutter\, een drakenstrijder\, ’n geniepige dief of de druïde die in gevaarlijke (en onschuldige) dieren kan veranderen. Het verschil tussen een RPG en een videogame is dat spelers de volledige vrijheid hebben om te doen en laten wat ze willen in de wereld. Uiteraard binnen de grenzen van de wereld en die van de spelleider. De dobbelstenen\, vooral de befaamde d20 (twintigzijdige dobbelsteen)\, bepalen of acties lukken\, hoeveel schade een spreuk of aanval doet. \nOver Spelslot\nSpelslot is een nationale samenwerking tussen Dungeons and Dragons-spelers en creatievelingen om deze hobby aan een groter publiek te introduceren. Spelslot wil D&D als middel gebruiken om verschillende generaties met elkaar te verbinden en de kracht en magie van verhalen te laten ervaren. Spelslot doet dit door middel van D&D en board game nights\, gehost door Dungeon Masters.
URL:https://www.spelslot.nl/event/spelmiddag-dungeons-and-dragons-bibliotheek-marienburg-2/
LOCATION:Mariënburg 29 6511PS Nijmegen\, Mariënburg 29\, Nijmegen\, Gelderland\, 6511PS
CATEGORIES:D&D bieb
ATTACH;FMTTYPE=image/png:https://www.spelslot.nl/wp-content/uploads/2023/08/64b69d8a55e90.png
END:VEVENT
BEGIN:VEVENT
DTSTART;TZID=Europe/Amsterdam:20240320T190000
DTEND;TZID=Europe/Amsterdam:20240320T223000
DTSTAMP:20260420T024753
CREATED:20240207T194750Z
LAST-MODIFIED:20240207T194750Z
UID:977-1710961200-1710973800@www.spelslot.nl
SUMMARY:spelslot D&D avond in het FNV gebouw
DESCRIPTION:de deuren openen om 18:30 \nmocht er iemand interesse hebben\nneem dan contact op met ons via ons contactformulier
URL:https://www.spelslot.nl/event/spelslot-dd-avond-in-het-fnv-gebouw-22/
LOCATION:Gelderland
CATEGORIES:D&D
END:VEVENT
BEGIN:VEVENT
DTSTART;TZID=Europe/Amsterdam:20240313T190000
DTEND;TZID=Europe/Amsterdam:20240313T223000
DTSTAMP:20260420T024753
CREATED:20240207T194734Z
LAST-MODIFIED:20240207T194734Z
UID:978-1710356400-1710369000@www.spelslot.nl
SUMMARY:spelslot D&D avond in het FNV gebouw
DESCRIPTION:de deuren openen om 18:30 \nmocht er iemand interesse hebben\nneem dan contact op met ons via ons contactformulier
URL:https://www.spelslot.nl/event/spelslot-dd-avond-in-het-fnv-gebouw-21/
LOCATION:Gelderland
CATEGORIES:D&D
END:VEVENT
BEGIN:VEVENT
DTSTART;TZID=Europe/Amsterdam:20240306T190000
DTEND;TZID=Europe/Amsterdam:20240306T223000
DTSTAMP:20260420T024753
CREATED:20240207T195445Z
LAST-MODIFIED:20240207T195445Z
UID:984-1709751600-1709764200@www.spelslot.nl
SUMMARY:spelslot Boardgame avond en leveling up d&d character in het FNV gebouw
DESCRIPTION:de deuren openen om 18:30 \nmocht er iemand interesse hebben\nneem dan contact op met ons via ons contactformulier
URL:https://www.spelslot.nl/event/spelslot-boardgame-avond-en-leveling-up-dd-character-in-het-fnv-gebouw/
LOCATION:Gelderland
CATEGORIES:Boardgames
END:VEVENT
BEGIN:VEVENT
DTSTART;TZID=Europe/Amsterdam:20240228T190000
DTEND;TZID=Europe/Amsterdam:20240228T223000
DTSTAMP:20260420T024753
CREATED:20230906T180144Z
LAST-MODIFIED:20230928T085936Z
UID:567-1709146800-1709159400@www.spelslot.nl
SUMMARY:spelslot D&D avond in het FNV gebouw
DESCRIPTION:de deuren openen om 18:30 \nmocht er iemand interesse hebben\nneem dan contact op met ons via ons contactformulier
URL:https://www.spelslot.nl/event/spelslot-dd-avond-in-het-fnv-gebouw-19/
LOCATION:Gelderland
CATEGORIES:D&D
END:VEVENT
BEGIN:VEVENT
DTSTART;TZID=Europe/Amsterdam:20240221T190000
DTEND;TZID=Europe/Amsterdam:20240221T223000
DTSTAMP:20260420T024753
CREATED:20230906T180050Z
LAST-MODIFIED:20230924T211956Z
UID:565-1708542000-1708554600@www.spelslot.nl
SUMMARY:spelslot D&D avond in het FNV gebouw
DESCRIPTION:de deuren openen om 18:30 \nmocht er iemand interesse hebben\nneem dan contact op met ons via ons contactformulier
URL:https://www.spelslot.nl/event/spelslot-dd-avond-in-het-fnv-gebouw-18/
LOCATION:Gelderland
CATEGORIES:D&D
END:VEVENT
BEGIN:VEVENT
DTSTART;TZID=Europe/Amsterdam:20240214T190000
DTEND;TZID=Europe/Amsterdam:20240214T223000
DTSTAMP:20260420T024753
CREATED:20230906T175759Z
LAST-MODIFIED:20230924T212005Z
UID:562-1707937200-1707949800@www.spelslot.nl
SUMMARY:spelslot D&D avond in het FNV gebouw
DESCRIPTION:de deuren openen om 18:30 \nmocht er iemand interesse hebben\nneem dan contact op met ons via ons contactformulier
URL:https://www.spelslot.nl/event/spelslot-dd-avond-in-het-fnv-gebouw-17/
LOCATION:Gelderland
CATEGORIES:D&D
END:VEVENT
BEGIN:VEVENT
DTSTART;TZID=Europe/Amsterdam:20240207T190000
DTEND;TZID=Europe/Amsterdam:20240207T223000
DTSTAMP:20260420T024753
CREATED:20230906T173214Z
LAST-MODIFIED:20230928T085923Z
UID:530-1707332400-1707345000@www.spelslot.nl
SUMMARY:spelslot Boardgame avond en leveling up d&d character in het FNV gebouw
DESCRIPTION:de deuren openen om 18:30 \nmocht er iemand interesse hebben\nneem dan contact op met ons via ons contactformulier
URL:https://www.spelslot.nl/event/spelslot-boardgame-avond-in-het-fnv-gebouw-6/
LOCATION:Gelderland
CATEGORIES:Boardgames
END:VEVENT
BEGIN:VEVENT
DTSTART;TZID=Europe/Amsterdam:20240204T130000
DTEND;TZID=Europe/Amsterdam:20240204T170000
DTSTAMP:20260420T024753
CREATED:20230906T183445Z
LAST-MODIFIED:20230906T183445Z
UID:582-1707051600-1707066000@www.spelslot.nl
SUMMARY:Spelmiddag Dungeons and Dragons Bibliotheek Mariënburg
DESCRIPTION:Elke eerste zondag van de maand van 13.00 tot 17.00 uur nemen de spelleiders van Spelslot jou mee op een Dungeons & Dragons-avontuur vol spanning en fantasie in de bieb! Deze avonturen beleef jij samen met andere helden in Bibliotheek Mariënburg. \nDungeons & Dragons (D&D) is een rollenspel waarbij je als speler een bepaalde rol speelt in een verhaal. De D&D-spelmiddagen zijn voor jongeren tussen de 12 en 18 jaar oud. Ouders en/of verzorgers mogen natuurlijk meekijken. Je hoeft geen ervaring met Dungeons & Dragons (D&D) of Role-Playing Games (RPG) te hebben. De spelleiders zorgen ervoor dat iedereen kan meespelen. \nDeelname is gratis. Het enige wat je hoeft te doen\, is je aan te melden. \nOver D&D\nD&D is een RPG (Role-Playing Game) waarin spelers in de huid kruipen van fantasyhelden. Een elven boogschutter\, een drakenstrijder\, ’n geniepige dief of de druïde die in gevaarlijke (en onschuldige) dieren kan veranderen. Het verschil tussen een RPG en een videogame is dat spelers de volledige vrijheid hebben om te doen en laten wat ze willen in de wereld. Uiteraard binnen de grenzen van de wereld en die van de spelleider. De dobbelstenen\, vooral de befaamde d20 (twintigzijdige dobbelsteen)\, bepalen of acties lukken\, hoeveel schade een spreuk of aanval doet. \nOver Spelslot\nSpelslot is een nationale samenwerking tussen Dungeons and Dragons-spelers en creatievelingen om deze hobby aan een groter publiek te introduceren. Spelslot wil D&D als middel gebruiken om verschillende generaties met elkaar te verbinden en de kracht en magie van verhalen te laten ervaren. Spelslot doet dit door middel van D&D en board game nights\, gehost door Dungeon Masters.
URL:https://www.spelslot.nl/event/spelmiddag-dungeons-and-dragons-bibliotheek-marienburg-6/
LOCATION:Mariënburg 29 6511PS Nijmegen\, Mariënburg 29\, Nijmegen\, Gelderland\, 6511PS
CATEGORIES:D&D bieb
ATTACH;FMTTYPE=image/png:https://www.spelslot.nl/wp-content/uploads/2023/08/64b69d8a55e90.png
END:VEVENT
BEGIN:VEVENT
DTSTART;TZID=Europe/Amsterdam:20240131T190000
DTEND;TZID=Europe/Amsterdam:20240131T223000
DTSTAMP:20260420T024753
CREATED:20230906T181456Z
LAST-MODIFIED:20230928T085916Z
UID:569-1706727600-1706740200@www.spelslot.nl
SUMMARY:spelslot D&D avond in het FNV gebouw
DESCRIPTION:de deuren openen om 18:30 \nmocht er iemand interesse hebben\nneem dan contact op met ons via ons contactformulier
URL:https://www.spelslot.nl/event/spelslot-dd-avond-in-het-fnv-gebouw-20/
LOCATION:Gelderland
CATEGORIES:D&D
END:VEVENT
BEGIN:VEVENT
DTSTART;TZID=Europe/Amsterdam:20240124T190000
DTEND;TZID=Europe/Amsterdam:20240124T223000
DTSTAMP:20260420T024753
CREATED:20230906T175725Z
LAST-MODIFIED:20230924T212128Z
UID:560-1706122800-1706135400@www.spelslot.nl
SUMMARY:spelslot D&D avond in het FNV gebouw
DESCRIPTION:de deuren openen om 18:30 \nmocht er iemand interesse hebben\nneem dan contact op met ons via ons contactformulier
URL:https://www.spelslot.nl/event/spelslot-dd-avond-in-het-fnv-gebouw-16/
LOCATION:Gelderland
CATEGORIES:D&D
END:VEVENT
BEGIN:VEVENT
DTSTART;TZID=Europe/Amsterdam:20240117T190000
DTEND;TZID=Europe/Amsterdam:20240117T223000
DTSTAMP:20260420T024753
CREATED:20230906T175446Z
LAST-MODIFIED:20230924T212138Z
UID:554-1705518000-1705530600@www.spelslot.nl
SUMMARY:spelslot D&D avond in het FNV gebouw
DESCRIPTION:de deuren openen om 18:30 \nmocht er iemand interesse hebben\nneem dan contact op met ons via ons contactformulier
URL:https://www.spelslot.nl/event/spelslot-dd-avond-in-het-fnv-gebouw-13/
LOCATION:Gelderland
CATEGORIES:D&D
END:VEVENT
BEGIN:VEVENT
DTSTART;TZID=Europe/Amsterdam:20240110T190000
DTEND;TZID=Europe/Amsterdam:20240110T223000
DTSTAMP:20260420T024753
CREATED:20230906T175210Z
LAST-MODIFIED:20230924T212146Z
UID:552-1704913200-1704925800@www.spelslot.nl
SUMMARY:spelslot D&D avond in het FNV gebouw
DESCRIPTION:de deuren openen om 18:30 \nmocht er iemand interesse hebben\nneem dan contact op met ons via ons contactformulier
URL:https://www.spelslot.nl/event/spelslot-dd-avond-in-het-fnv-gebouw-12/
LOCATION:Gelderland
CATEGORIES:D&D
END:VEVENT
BEGIN:VEVENT
DTSTART;TZID=Europe/Amsterdam:20240107T130000
DTEND;TZID=Europe/Amsterdam:20240107T170000
DTSTAMP:20260420T024753
CREATED:20230906T183258Z
LAST-MODIFIED:20230906T183258Z
UID:580-1704632400-1704646800@www.spelslot.nl
SUMMARY:Spelmiddag Dungeons and Dragons Bibliotheek Mariënburg
DESCRIPTION:Elke eerste zondag van de maand van 13.00 tot 17.00 uur nemen de spelleiders van Spelslot jou mee op een Dungeons & Dragons-avontuur vol spanning en fantasie in de bieb! Deze avonturen beleef jij samen met andere helden in Bibliotheek Mariënburg. \nDungeons & Dragons (D&D) is een rollenspel waarbij je als speler een bepaalde rol speelt in een verhaal. De D&D-spelmiddagen zijn voor jongeren tussen de 12 en 18 jaar oud. Ouders en/of verzorgers mogen natuurlijk meekijken. Je hoeft geen ervaring met Dungeons & Dragons (D&D) of Role-Playing Games (RPG) te hebben. De spelleiders zorgen ervoor dat iedereen kan meespelen. \nDeelname is gratis. Het enige wat je hoeft te doen\, is je aan te melden. \nOver D&D\nD&D is een RPG (Role-Playing Game) waarin spelers in de huid kruipen van fantasyhelden. Een elven boogschutter\, een drakenstrijder\, ’n geniepige dief of de druïde die in gevaarlijke (en onschuldige) dieren kan veranderen. Het verschil tussen een RPG en een videogame is dat spelers de volledige vrijheid hebben om te doen en laten wat ze willen in de wereld. Uiteraard binnen de grenzen van de wereld en die van de spelleider. De dobbelstenen\, vooral de befaamde d20 (twintigzijdige dobbelsteen)\, bepalen of acties lukken\, hoeveel schade een spreuk of aanval doet. \nOver Spelslot\nSpelslot is een nationale samenwerking tussen Dungeons and Dragons-spelers en creatievelingen om deze hobby aan een groter publiek te introduceren. Spelslot wil D&D als middel gebruiken om verschillende generaties met elkaar te verbinden en de kracht en magie van verhalen te laten ervaren. Spelslot doet dit door middel van D&D en board game nights\, gehost door Dungeon Masters.
URL:https://www.spelslot.nl/event/spelmiddag-dungeons-and-dragons-bibliotheek-marienburg-5/
LOCATION:Mariënburg 29 6511PS Nijmegen\, Mariënburg 29\, Nijmegen\, Gelderland\, 6511PS
CATEGORIES:D&D bieb
ATTACH;FMTTYPE=image/png:https://www.spelslot.nl/wp-content/uploads/2023/08/64b69d8a55e90.png
END:VEVENT
BEGIN:VEVENT
DTSTART;TZID=Europe/Amsterdam:20240103T190000
DTEND;TZID=Europe/Amsterdam:20240103T223000
DTSTAMP:20260420T024753
CREATED:20230906T173146Z
LAST-MODIFIED:20230928T085906Z
UID:528-1704308400-1704321000@www.spelslot.nl
SUMMARY:spelslot Boardgame avond en leveling up d&d character in het FNV gebouw
DESCRIPTION:de deuren openen om 18:30 \nmocht er iemand interesse hebben\nneem dan contact op met ons via ons contactformulier
URL:https://www.spelslot.nl/event/spelslot-boardgame-avond-in-het-fnv-gebouw-5/
LOCATION:Gelderland
CATEGORIES:Boardgames
END:VEVENT
BEGIN:VEVENT
DTSTART;TZID=Europe/Amsterdam:20231227T190000
DTEND;TZID=Europe/Amsterdam:20231227T223000
DTSTAMP:20260420T024753
CREATED:20230906T175649Z
LAST-MODIFIED:20230928T085900Z
UID:558-1703703600-1703716200@www.spelslot.nl
SUMMARY:spelslot D&D avond in het FNV gebouw
DESCRIPTION:de deuren openen om 18:30 \nmocht er iemand interesse hebben\nneem dan contact op met ons via ons contactformulier
URL:https://www.spelslot.nl/event/spelslot-dd-avond-in-het-fnv-gebouw-15/
LOCATION:Gelderland
CATEGORIES:D&D
END:VEVENT
BEGIN:VEVENT
DTSTART;TZID=Europe/Amsterdam:20231220T190000
DTEND;TZID=Europe/Amsterdam:20231220T223000
DTSTAMP:20260420T024753
CREATED:20230906T175135Z
LAST-MODIFIED:20230924T212204Z
UID:550-1703098800-1703111400@www.spelslot.nl
SUMMARY:spelslot D&D avond in het FNV gebouw
DESCRIPTION:de deuren openen om 18:30 \nmocht er iemand interesse hebben\nneem dan contact op met ons via ons contactformulier
URL:https://www.spelslot.nl/event/spelslot-dd-avond-in-het-fnv-gebouw-11/
LOCATION:Gelderland
CATEGORIES:D&D
END:VEVENT
BEGIN:VEVENT
DTSTART;TZID=Europe/Amsterdam:20231213T190000
DTEND;TZID=Europe/Amsterdam:20231213T223000
DTSTAMP:20260420T024753
CREATED:20230906T175051Z
LAST-MODIFIED:20230924T212210Z
UID:548-1702494000-1702506600@www.spelslot.nl
SUMMARY:spelslot D&D avond in het FNV gebouw
DESCRIPTION:de deuren openen om 18:30 \nmocht er iemand interesse hebben\nneem dan contact op met ons via ons contactformulier
URL:https://www.spelslot.nl/event/spelslot-dd-avond-in-het-fnv-gebouw-10/
LOCATION:Gelderland
CATEGORIES:D&D
END:VEVENT
BEGIN:VEVENT
DTSTART;TZID=Europe/Amsterdam:20231206T190000
DTEND;TZID=Europe/Amsterdam:20231206T223000
DTSTAMP:20260420T024753
CREATED:20230906T173052Z
LAST-MODIFIED:20230928T085851Z
UID:526-1701889200-1701901800@www.spelslot.nl
SUMMARY:spelslot Boardgame avond en leveling up d&d character in het FNV gebouw
DESCRIPTION:de deuren openen om 18:30 \nmocht er iemand interesse hebben\nneem dan contact op met ons via ons contactformulier
URL:https://www.spelslot.nl/event/spelslot-boardgame-avond-in-het-fnv-gebouw-4/
LOCATION:Gelderland
CATEGORIES:Boardgames
END:VEVENT
BEGIN:VEVENT
DTSTART;TZID=Europe/Amsterdam:20231203T130000
DTEND;TZID=Europe/Amsterdam:20231203T170000
DTSTAMP:20260420T024753
CREATED:20230906T182919Z
LAST-MODIFIED:20230906T182919Z
UID:575-1701608400-1701622800@www.spelslot.nl
SUMMARY:Spelmiddag Dungeons and Dragons Bibliotheek Mariënburg
DESCRIPTION:Elke eerste zondag van de maand van 13.00 tot 17.00 uur nemen de spelleiders van Spelslot jou mee op een Dungeons & Dragons-avontuur vol spanning en fantasie in de bieb! Deze avonturen beleef jij samen met andere helden in Bibliotheek Mariënburg. \nDungeons & Dragons (D&D) is een rollenspel waarbij je als speler een bepaalde rol speelt in een verhaal. De D&D-spelmiddagen zijn voor jongeren tussen de 12 en 18 jaar oud. Ouders en/of verzorgers mogen natuurlijk meekijken. Je hoeft geen ervaring met Dungeons & Dragons (D&D) of Role-Playing Games (RPG) te hebben. De spelleiders zorgen ervoor dat iedereen kan meespelen. \nDeelname is gratis. Het enige wat je hoeft te doen\, is je aan te melden. \nOver D&D\nD&D is een RPG (Role-Playing Game) waarin spelers in de huid kruipen van fantasyhelden. Een elven boogschutter\, een drakenstrijder\, ’n geniepige dief of de druïde die in gevaarlijke (en onschuldige) dieren kan veranderen. Het verschil tussen een RPG en een videogame is dat spelers de volledige vrijheid hebben om te doen en laten wat ze willen in de wereld. Uiteraard binnen de grenzen van de wereld en die van de spelleider. De dobbelstenen\, vooral de befaamde d20 (twintigzijdige dobbelsteen)\, bepalen of acties lukken\, hoeveel schade een spreuk of aanval doet. \nOver Spelslot\nSpelslot is een nationale samenwerking tussen Dungeons and Dragons-spelers en creatievelingen om deze hobby aan een groter publiek te introduceren. Spelslot wil D&D als middel gebruiken om verschillende generaties met elkaar te verbinden en de kracht en magie van verhalen te laten ervaren. Spelslot doet dit door middel van D&D en board game nights\, gehost door Dungeon Masters.
URL:https://www.spelslot.nl/event/spelmiddag-dungeons-and-dragons-bibliotheek-marienburg-3/
LOCATION:Mariënburg 29 6511PS Nijmegen\, Mariënburg 29\, Nijmegen\, Gelderland\, 6511PS
CATEGORIES:D&D bieb
ATTACH;FMTTYPE=image/png:https://www.spelslot.nl/wp-content/uploads/2023/08/64b69d8a55e90.png
END:VEVENT
BEGIN:VEVENT
DTSTART;TZID=Europe/Amsterdam:20231129T190000
DTEND;TZID=Europe/Amsterdam:20231129T223000
DTSTAMP:20260420T024753
CREATED:20230906T174635Z
LAST-MODIFIED:20230928T085843Z
UID:546-1701284400-1701297000@www.spelslot.nl
SUMMARY:spelslot D&D avond in het FNV gebouw
DESCRIPTION:de deuren openen om 18:30 \nmocht er iemand interesse hebben\nneem dan contact op met ons via ons contactformulier
URL:https://www.spelslot.nl/event/spelslot-dd-avond-in-het-fnv-gebouw-9/
LOCATION:Gelderland
CATEGORIES:D&D
END:VEVENT
BEGIN:VEVENT
DTSTART;TZID=Europe/Amsterdam:20231122T190000
DTEND;TZID=Europe/Amsterdam:20231122T223000
DTSTAMP:20260420T024753
CREATED:20230906T175602Z
LAST-MODIFIED:20230924T212308Z
UID:556-1700679600-1700692200@www.spelslot.nl
SUMMARY:spelslot D&D avond in het FNV gebouw
DESCRIPTION:de deuren openen om 18:30 \nmocht er iemand interesse hebben\nneem dan contact op met ons via ons contactformulier
URL:https://www.spelslot.nl/event/spelslot-dd-avond-in-het-fnv-gebouw-14/
LOCATION:Gelderland
CATEGORIES:D&D
END:VEVENT
BEGIN:VEVENT
DTSTART;TZID=Europe/Amsterdam:20231115T190000
DTEND;TZID=Europe/Amsterdam:20231115T223000
DTSTAMP:20260420T024753
CREATED:20230906T174437Z
LAST-MODIFIED:20230924T212314Z
UID:544-1700074800-1700087400@www.spelslot.nl
SUMMARY:spelslot D&D avond in het FNV gebouw
DESCRIPTION:de deuren openen om 18:30 \nmocht er iemand interesse hebben\nneem dan contact op met ons via ons contactformulier
URL:https://www.spelslot.nl/event/spelslot-dd-avond-in-het-fnv-gebouw-8/
LOCATION:Gelderland
CATEGORIES:D&D
END:VEVENT
BEGIN:VEVENT
DTSTART;TZID=Europe/Amsterdam:20231108T190000
DTEND;TZID=Europe/Amsterdam:20231108T223000
DTSTAMP:20260420T024753
CREATED:20230906T174329Z
LAST-MODIFIED:20230924T212319Z
UID:542-1699470000-1699482600@www.spelslot.nl
SUMMARY:spelslot D&D avond in het FNV gebouw
DESCRIPTION:de deuren openen om 18:30 \nmocht er iemand interesse hebben\nneem dan contact op met ons via ons contactformulier
URL:https://www.spelslot.nl/event/spelslot-dd-avond-in-het-fnv-gebouw-7/
LOCATION:Gelderland
CATEGORIES:D&D
END:VEVENT
BEGIN:VEVENT
DTSTART;TZID=Europe/Amsterdam:20231105T130000
DTEND;TZID=Europe/Amsterdam:20231105T170000
DTSTAMP:20260420T024753
CREATED:20230906T183143Z
LAST-MODIFIED:20230906T183143Z
UID:577-1699189200-1699203600@www.spelslot.nl
SUMMARY:Spelmiddag Dungeons and Dragons Bibliotheek Mariënburg
DESCRIPTION:Elke eerste zondag van de maand van 13.00 tot 17.00 uur nemen de spelleiders van Spelslot jou mee op een Dungeons & Dragons-avontuur vol spanning en fantasie in de bieb! Deze avonturen beleef jij samen met andere helden in Bibliotheek Mariënburg. \nDungeons & Dragons (D&D) is een rollenspel waarbij je als speler een bepaalde rol speelt in een verhaal. De D&D-spelmiddagen zijn voor jongeren tussen de 12 en 18 jaar oud. Ouders en/of verzorgers mogen natuurlijk meekijken. Je hoeft geen ervaring met Dungeons & Dragons (D&D) of Role-Playing Games (RPG) te hebben. De spelleiders zorgen ervoor dat iedereen kan meespelen. \nDeelname is gratis. Het enige wat je hoeft te doen\, is je aan te melden. \nOver D&D\nD&D is een RPG (Role-Playing Game) waarin spelers in de huid kruipen van fantasyhelden. Een elven boogschutter\, een drakenstrijder\, ’n geniepige dief of de druïde die in gevaarlijke (en onschuldige) dieren kan veranderen. Het verschil tussen een RPG en een videogame is dat spelers de volledige vrijheid hebben om te doen en laten wat ze willen in de wereld. Uiteraard binnen de grenzen van de wereld en die van de spelleider. De dobbelstenen\, vooral de befaamde d20 (twintigzijdige dobbelsteen)\, bepalen of acties lukken\, hoeveel schade een spreuk of aanval doet. \nOver Spelslot\nSpelslot is een nationale samenwerking tussen Dungeons and Dragons-spelers en creatievelingen om deze hobby aan een groter publiek te introduceren. Spelslot wil D&D als middel gebruiken om verschillende generaties met elkaar te verbinden en de kracht en magie van verhalen te laten ervaren. Spelslot doet dit door middel van D&D en board game nights\, gehost door Dungeon Masters.
URL:https://www.spelslot.nl/event/spelmiddag-dungeons-and-dragons-bibliotheek-marienburg-4/
LOCATION:Mariënburg 29 6511PS Nijmegen\, Mariënburg 29\, Nijmegen\, Gelderland\, 6511PS
CATEGORIES:D&D bieb
ATTACH;FMTTYPE=image/png:https://www.spelslot.nl/wp-content/uploads/2023/08/64b69d8a55e90.png
END:VEVENT
BEGIN:VEVENT
DTSTART;TZID=Europe/Amsterdam:20231101T190000
DTEND;TZID=Europe/Amsterdam:20231101T223000
DTSTAMP:20260420T024753
CREATED:20230906T173005Z
LAST-MODIFIED:20230928T085823Z
UID:524-1698865200-1698877800@www.spelslot.nl
SUMMARY:spelslot Boardgame avond en leveling up d&d character in het FNV gebouw
DESCRIPTION:de deuren openen om 18:30 \nmocht er iemand interesse hebben\nneem dan contact op met ons via ons contactformulier
URL:https://www.spelslot.nl/event/spelslot-boardgame-avond-in-het-fnv-gebouw-3/
LOCATION:Gelderland
CATEGORIES:Boardgames
END:VEVENT
END:VCALENDAR